BEGIN:VCALENDAR
VERSION:2.0
PRODID:-//wp-events-plugin.com//7.2.3.1//EN
BEGIN:VEVENT
UID:41@investbarbados.org
DTSTART:20231023T040000Z
DTEND:20231025T040000Z
DTSTAMP:20230829T151709Z
URL:https://www.investbarbados.org/events/save-the-date/
SUMMARY:Save The Date
DESCRIPTION:\n\nCIF2023 - Conference Overview\n\nhttps://youtu.be/GfE7udhqU
 Fw
ATTACH;FMTTYPE=image/jpeg:https://www.investbarbados.org/wp-content/upload
 s/2023/08/CIF2023-SAVE-THE-DATE-V5@4x-80-2-scaled.jpg
LOCATION:http://www.caribbeaninvestmentforum.com
END:VEVENT
END:VCALENDAR