BEGIN:VCALENDAR
VERSION:2.0
PRODID:-//wp-events-plugin.com//7.2.3.1//EN
BEGIN:VEVENT
UID:104@investbarbados.org
DTSTART;TZID=Africa/Abidjan:20260318T000000
DTEND;TZID=Africa/Abidjan:20260318T000000
DTSTAMP:20260216T180003Z
URL:https://www.investbarbados.org/events/citywealth-forum-usa/
SUMMARY:Citywealth Forum USA
DESCRIPTION:Invest Barbados is a proud Bronze Sponsor of Citywealth Forum U
 SA\, which will be held on March 18\, 2026\, at the Deutsche Bank Wealth M
 anagement in New York.\n\nThis forum targets ultra-high-net-worth individu
 als and families\, exploring and debating topics that are important to thi
 s target audience.\n\nBarbados is recognised as a trusted jurisdiction for
  wealth management – efficient security and regulation are two of the pi
 llars on which the jurisdiction is based.\n\nLocal service provider\, Niki
 ta Gibson\, Managing Director at Geneva International Insurance\, will par
 ticipate in a panel discussion titled\, ‘Trusts &amp\; Investment Strate
 gies’\, joining a cadre of expert presenters in their field.\n\nClick he
 re to view the full Forum agenda.\n\nRegister now for the Citywealth Forum
  USA.\n\nFor more information on Barbados’ participation in the event\, 
 please contact Julia Hope\, Consultant at jhope@investbarbados.org.\n\n
ATTACH;FMTTYPE=image/jpeg:https://www.investbarbados.org/wp-content/upload
 s/2026/02/Citywealth-Forum-USA-artwork.jpg
END:VEVENT
BEGIN:VTIMEZONE
TZID:Africa/Abidjan
X-LIC-LOCATION:Africa/Abidjan
BEGIN:STANDARD
DTSTART:20250318T000000
TZOFFSETFROM:+0000
TZOFFSETTO:+0000
TZNAME:GMT
END:STANDARD
END:VTIMEZONE
END:VCALENDAR