BEGIN:VCALENDAR
VERSION:2.0
PRODID:-//wp-events-plugin.com//7.2.3.1//EN
BEGIN:VEVENT
UID:103@investbarbados.org
DTSTART;TZID=Africa/Abidjan:20260308T000000
DTEND;TZID=Africa/Abidjan:20260310T000000
DTSTAMP:20260216T160829Z
URL:https://www.investbarbados.org/events/cica-2026/
SUMMARY:CICA 2026
DESCRIPTION:Invest Barbados continues its promotional thrust in the captive
  insurance sector.  The Barbados team will participate in the CICA 2026 I
 nternational Conference. This three-day conference will take place at the 
 J.W. Marriott Desert Springs Resort &amp\; Spa\, Palm Desert\, California\
 , from March 8-10.\n\nSeveral attendees across the captive industry and ot
 hers seeking innovative solutions within the field will gather at this ant
 icipated event.\n\nThe CICA International Conference was designed to bring
  together the best captive professionals globally in a domicile-neutral se
 tting to engage new talent\, explore new uses of captives\, as well as pin
 point best practices within the industry.\n\nFor decades\, Barbados has re
 mained in the top ten domiciles for captive insurance. As at December 31\,
  2025\, there were 276 active insurance companies in Barbados.\n\nWhat mak
 es Barbados an attractive domicile for captive insurance?  Visit the Barb
 ados booth at #105 to learn more.  For further information on Barbados’
  participation in the CICA 2026 International Conference\, please contact 
 Mr. Neil Weekes\, Manager\, Investment Generation and Aftercare at nweekes
 @investbarbados.org.\n\n&nbsp\;\n\n&nbsp\;
ATTACH;FMTTYPE=image/jpeg:https://www.investbarbados.org/wp-content/upload
 s/2024/02/CICA-logo.jpg
END:VEVENT
BEGIN:VTIMEZONE
TZID:Africa/Abidjan
X-LIC-LOCATION:Africa/Abidjan
BEGIN:STANDARD
DTSTART:20250308T000000
TZOFFSETFROM:+0000
TZOFFSETTO:+0000
TZNAME:GMT
END:STANDARD
END:VTIMEZONE
END:VCALENDAR