BEGIN:VCALENDAR
VERSION:2.0
PRODID:-//wp-events-plugin.com//7.2.3.1//EN
BEGIN:VEVENT
UID:105@investbarbados.org
DTSTART;TZID=Africa/Abidjan:20260326T000000
DTEND;TZID=Africa/Abidjan:20260327T000000
DTSTAMP:20260312T175444Z
URL:https://www.investbarbados.org/events/brim-2026/
SUMMARY:BRIM 2026
DESCRIPTION:Invest Barbados is a proud Silver Sponsor of BRIM 2026.\n\nRegi
 ster now for this informative annual conference and join the Invest Barbad
 os team at our booth.\n\nFor further information on Invest Barbados' parti
 cipation in BRIM 2026\, please contact Mr. Adrian Sealy\, Manager\, Invest
 ment Generation &amp\; Aftercare at asealy@investbarbados.org.\n\nYou can 
 also visit BRIM's conference page at https://brim.biba.bb/.\n\n
ATTACH;FMTTYPE=image/jpeg:https://www.investbarbados.org/wp-content/upload
 s/2026/02/1BRIM-2026_SOCIAL_Sponsor-scaled.png
END:VEVENT
BEGIN:VTIMEZONE
TZID:Africa/Abidjan
X-LIC-LOCATION:Africa/Abidjan
BEGIN:STANDARD
DTSTART:20250326T000000
TZOFFSETFROM:+0000
TZOFFSETTO:+0000
TZNAME:GMT
END:STANDARD
END:VTIMEZONE
END:VCALENDAR